BEGIN:VCALENDAR
VERSION:2.0
PRODID:-//eventon.com NONSGML v1.0//EN
CALSCALE:GREGORIAN
METHOD:PUBLISH
BEGIN:VEVENT
UID:69e4dfff2ff09
DTSTAMP:20260419T140031Z
DTSTART:20250715T190000Z
DTEND:20250715T194500Z
LOCATION:
SUMMARY:Coastal Source Design Service Webinar - Session 2
DESCRIPTION:Starting today\,  the reimagined Coastal Source Design Service 
 is officially live—and ready to elevate your next project. Whether you’
 re sparking early interest or finalizing a full install\,  this streamlined
  program helps you close faster with: Complimentary conceptual lighting &am
 p; schematic audio diagrams Faster turnaround times to keep momentum Premiu
 m packages[..]\nhttps://nutechgroup.com/calendar/coastal-source-design-serv
 ice-webinar-session-2/
URL:https://nutechgroup.com/calendar/coastal-source-design-service-webinar-session-2/
END:VEVENT
END:VCALENDAR