BEGIN:VCALENDAR
VERSION:2.0
PRODID:-//eventon.com NONSGML v1.0//EN
CALSCALE:GREGORIAN
METHOD:PUBLISH
BEGIN:VEVENT
UID:69e63b0dc1a7f
DTSTAMP:20260420T144117Z
DTSTART:20201125T150000Z
DTEND:20201125T160000Z
LOCATION:
SUMMARY:Meridian | High Power Array Webinar Session 1
DESCRIPTION:On Wednesday\,  November 25th\,  Barry Sheldrick will host the
  webinar 'Meridian High Power Array' where you will discover how to achie
 ve class-leading performance\,  and high SPL targets\,  within the largest
  of listening spaces. During this webinar\,  you will learn more about Meri
 dian's stack/array configurations and our all-new High Power Array (HPA) pr
 ocessing technology. All[..]\nhttps://nutechgroup.com/calendar/meridian-hig
 h-power-array-webinar-session-1/
URL:https://nutechgroup.com/calendar/meridian-high-power-array-webinar-session-1/
END:VEVENT
END:VCALENDAR